BEGIN:VCALENDAR
VERSION:2.0
PRODID:-//Pleasant Grove Missionary Baptist Church - ECPv6.15.20//NONSGML v1.0//EN
CALSCALE:GREGORIAN
METHOD:PUBLISH
X-ORIGINAL-URL:https://pgmbchurchspnc.org
X-WR-CALDESC:Events for Pleasant Grove Missionary Baptist Church
REFRESH-INTERVAL;VALUE=DURATION:PT1H
X-Robots-Tag:noindex
X-PUBLISHED-TTL:PT1H
BEGIN:VTIMEZONE
TZID:America/New_York
BEGIN:DAYLIGHT
TZOFFSETFROM:-0500
TZOFFSETTO:-0400
TZNAME:EDT
DTSTART:20250309T070000
END:DAYLIGHT
BEGIN:STANDARD
TZOFFSETFROM:-0400
TZOFFSETTO:-0500
TZNAME:EST
DTSTART:20251102T060000
END:STANDARD
BEGIN:DAYLIGHT
TZOFFSETFROM:-0500
TZOFFSETTO:-0400
TZNAME:EDT
DTSTART:20260308T070000
END:DAYLIGHT
BEGIN:STANDARD
TZOFFSETFROM:-0400
TZOFFSETTO:-0500
TZNAME:EST
DTSTART:20261101T060000
END:STANDARD
BEGIN:DAYLIGHT
TZOFFSETFROM:-0500
TZOFFSETTO:-0400
TZNAME:EDT
DTSTART:20270314T070000
END:DAYLIGHT
BEGIN:STANDARD
TZOFFSETFROM:-0400
TZOFFSETTO:-0500
TZNAME:EST
DTSTART:20271107T060000
END:STANDARD
END:VTIMEZONE
BEGIN:VEVENT
DTSTART;TZID=America/New_York:20260427T183000
DTEND;TZID=America/New_York:20260429T220000
DTSTAMP:20260421T124403
CREATED:20260403T135816Z
LAST-MODIFIED:20260420T135618Z
UID:1171-1777314600-1777500000@pgmbchurchspnc.org
SUMMARY:"A Heart For The Harvest" Tent Revival
DESCRIPTION:  \nDates: April 27th – April 29thTime: 6:30 PM Nightly\nVerse: John 4:35b – “Lift up your eyes\, and look on the fields; for they are white already to harvest.” \nEvent Highlights: \n\n\nMonday: Apostle Dr. Wiley Hughes (Of Destiny Now Church\, Fayetteville\, NC) \n\n\nTuesday (Youth Night): Pastor Angela Marks (Youth Pastor at Mt. Pisgah MBC) \n\n\nWednesday: Pastor Elgett Floyd (First Baptist MBC\, Parkton\, NC) \n\n\nHost: UMBA Labor of Love – Region 2 \nEveryone is welcome!You are invited to attend this non-denominational event. We will have youth giveaways on Tuesday! \nLocation:436 North 5th StreetSt. Paul’s\, NC 2838(Across from St. Paul’s Middle) \nExperience: Prophetic • Miracles • Healing • Anointing • Power \nFor More Information Call: \n\n\nPastor Amanda Pone – 910-551-5370 \n\n\nSis. Catrina McKinnon – 910-618-7304
URL:https://pgmbchurchspnc.org/event/a-heart-for-the-harvest-tent-revival/
LOCATION:436 North 5th Street St. Paul’s\, NC 2838\, 436 North 5th Street\, St. Paul's\, NC\, 28384\, United States
CATEGORIES:Church Event
ATTACH;FMTTYPE=image/jpeg:https://pgmbchurchspnc.org/wp-content/uploads/2026/03/tent-rev-April2026.jpg
END:VEVENT
END:VCALENDAR